Workbook

Sheet Instructions
C3: Personal Communication Style
C4: Section 1 | D4: Instructions
C6: Introduction
C8: Every person has a unique communication style, a way in which they interact and exchange information with others.
C10: There are four basic communication styles: passive, aggressive, passive-aggressive and assertive.
C12: It’s important to understand each communication style, and why individuals use them. At the end of this self-assessment we will better understand the characteristics of each style and what makes them unique.
C14: Instructions
C16: There are four sections in this spreadsheet: Instructions, Questionnaire, Final Scores and Interpret your Results.
C18: Start the self-assessment by reading these instructions carefully. Then, move on to the second tab of the spreadsheet to complete the Questionnaire. After, use your results to plot your scores on the grid located on the third tab. Finally, interpret your results following the guidelines in the last tab of this spreadsheet.
C20: On the next tab (Questionnaire), you will find 40 statements. For each statement, think about how you currently react in real situations. Do not guess how you should act in the future. Be sure to select the option that most closely applies to you, using the following scale: Totally agree, Partially agree, No views, Partially disagree and Totally disagree.
C22: You must complete all sections of the questionnaire.

Sheet Questionnaire
C6: Personal Communication Style
C7: Section 2 | D7: Questionnaire
C9: Read the statements below and add an X on the cell applicable to you (please provide only one answer per statement).
C10: Statements | D10: Totally disagree | E10: Partially disagree | F10: No views | G10: Partially agree | H10: Totally agree
B12: 1 | C12: I have the right to say “no” to others without feeling guilty.
B13: 2 | C13: When I am angry, I keep my feelings to myself.
B14: 3 | C14: If my rights are violated, I find ways of getting even.
B15: 4 | C15: I dismiss people who are not worth worrying about.
B16: 5 | C16: I can maintain eye contact with people very comfortably.
B17: 6 | C17: I find it difficult to admit I don’t understand something.
B18: 7 | C18: When I am annoyed I find it hard to control my body language.
B19: 8 | C19: I am quite a demanding person.
B20: 9 | C20: I have no problem letting people know what I think.
B21: 10 | C21: When people let me down, I won’t show I am upset.
B22: 11 | C22: I find it easy to manipulate other people.
B23: 12 | C23: I can get angry with people if necessary.
... B51: 40 | C51: To command respect you must tell people where you stand.

Sheet Final Scores
D7: Personal Communication Style
D8: Section 3 | F8: Final Scores
E10: Assertive | H10: Passive | K10: Passive Aggressive | N10: Openly Aggressive
E11: Question | F11: Value | H11: Question | I11: Value | K11: Question | L11: Value | N11: Question | O11: Value
E12: 1 | F12: ='Communication Style Scores'!G12 -> FALSE | H12: 2 | I12: ='Communication Style Scores'!K12 -> FALSE | K12: 3 | L12: ='Communication Style Scores'!O12 -> FALSE | N12: 4 | O12: ='Communication Style Scores'!S12 -> FALSE
E13: 5 | F13: ='Communication Style Scores'!G13 -> FALSE | H13: 6 | I13: ='Communication Style Scores'!K13 -> FALSE | K13: 7 | L13: ='Communication Style Scores'!O13 -> FALSE | N13: 8 | O13: ='Communication Style Scores'!S13 -> FALSE
E14: 9 | F14: ='Communication Style Scores'!G14 -> FALSE | H14: 10 | I14: ='Communication Style Scores'!K14 -> FALSE | K14: 11 | L14: ='Communication Style Scores'!O14 -> FALSE | N14: 12 | O14: ='Communication Style Scores'!S14 -> FALSE
E15: 13 | F15: ='Communication Style Scores'!G15 -> FALSE | H15: 14 | I15: ='Communication Style Scores'!K15 -> FALSE | K15: 15 | L15: ='Communication Style Scores'!O15 -> FALSE | N15: 16 | O15: ='Communication Style Scores'!S15 -> FALSE
E16: 17 | F16: ='Communication Style Scores'!G16 -> FALSE | H16: 18 | I16: ='Communication Style Scores'!K16 -> FALSE | K16: 19 | L16: ='Communication Style Scores'!O16 -> FALSE | N16: 20 | O16: ='Communication Style Scores'!S16 -> FALSE
E17: 21 | F17: ='Communication Style Scores'!G17 -> FALSE | H17: 22 | I17: ='Communication Style Scores'!K17 -> FALSE | K17: 23 | L17: ='Communication Style Scores'!O17 -> FALSE | N17: 24 | O17: ='Communication Style Scores'!S17 -> FALSE
E18: 25 | F18: ='Communication Style Scores'!G18 -> FALSE | H18: 26 | I18: ='Communication Style Scores'!K18 -> FALSE | K18: 27 | L18: ='Communication Style Scores'!O18 -> FALSE | N18: 28 | O18: ='Communication Style Scores'!S18 -> FALSE
E19: 29 | F19: ='Communication Style Scores'!G19 -> FALSE | H19: 30 | I19: ='Communication Style Scores'!K19 -> FALSE | K19: 31 | L19: ='Communication Style Scores'!O19 -> FALSE | N19: 32 | O19: ='Communication Style Scores'!S19 -> FALSE
E20: 33 | F20: ='Communication Style Scores'!G20 -> FALSE | H20: 34 | I20: ='Communication Style Scores'!K20 -> FALSE | K20: 35 | L20: ='Communication Style Scores'!O20 -> FALSE | N20: 36 | O20: ='Communication Style Scores'!S20 -> FALSE
E21: 37 | F21: ='Communication Style Scores'!G21 -> FALSE | H21: 38 | I21: ='Communication Style Scores'!K21 -> FALSE | K21: 39 | L21: ='Communication Style Scores'!O21 -> FALSE | N21: 40 | O21: ='Communication Style Scores'!S21 -> FALSE
D22: FINAL SCORES = | E22: =SUM(F12:F21) -> 0 | H22: =SUM(I12:I21) -> 0 | K22: =SUM(L12:L21) -> 0 | N22: =SUM(O12:O21) -> 0
E25: Now that you know your Final Scores, you can plot them on the grid below. To do so, drag the red lines and position them to match your final score for each quadrant. Then, connect the lines on each quadrant to find the profile of your communication style. There is a pre-populated example below. You can drag and transform the lines to match your scores.
E27: Assertive | H27: Passive | K27: Passive Aggressive | N27: Openly Aggressive
E29: 50 | H29: 50 | K29: 50 | N29: 50
D30: Very High | E30: 48 | H30: 48 | K30: 48 | N30: 48
E31: 46 | H31: 46 | K31: 46 | N31: 46
E32: 44 | H32: 44 | K32: 44 | N32: 44
E33: 42 | H33: 42 | K33: 42 | N33: 42
D34: High | E34: 40 | H34: 40 | K34: 40 | N34: 40
E35: 38 | H35: 38 | K35: 38 | N35: 38
E36: 36 | H36: 36 | K36: 36 | N36: 36
E37: 34 | H37: 34 | K37: 34 | N37: 34
D38: Average | E38: 32 | H38: 32 | K38: 32 | N38: 32
E39: 30 | H39: 30 | K39: 30 | N39: 30
E40: 28 | H40: 28 | K40: 28 | N40: 28
E41: 26 | H41: 26 | K41: 26 | N41: 26
D42: Low | E42: 24 | H42: 24 | K42: 24 | N42: 24
E43: 22 | H43: 22 | K43: 22 | N43: 22
E44: 20 | H44: 20 | K44: 20 | N44: 20
E45: 18 | H45: 18 | K45: 18 | N45: 18
E46: 16 | H46: 16 | K46: 16 | N46: 16
D47: Very Low | E47: 14 | H47: 14 | K47: 14 | N47: 14
E48: 12 | H48: 12 | K48: 12 | N48: 12
E49: 10 | H49: 10 | K49: 10 | N49: 10

Sheet Interpret your Results
C3: Personal Communication Style
C4: Section 4 | D4: Interpret your Results
C6: Passive
C8: Individuals who use the passive communication style often act indifferently, yielding to others. Passive communicators usually fail to express their feelings or needs, allowing others to express themselves. Frequently, a passive communicator’s lack of outward communication can lead to misunderstanding, anger build-up or resentment. At the same time, these communicators can be safer to speak with when a conflict arises, because they most likely will avoid a confrontation or defer to others.
C10: Passive communicators often display a lack of eye contact, poor body posture and an inability to say “no.” Passive communicators also act in a way that states “people never consider my feelings.” But passive communicators are also easy to get along with as they follow others and “go with the flow.”
C12: Aggressive
C14: It’s often apparent when someone communicates in an aggressive manner. You’ll hear it. You’ll see it. You may even feel it.
C16: The aggressive communication style is emphasized by speaking in a loud and demanding voice, maintaining intense eye contact and dominating or controlling others by blaming, intimidating, criticizing, threatening or attacking them, among other traits.
C18: Aggressive communicators often issue commands, ask questions rudely and fail to listen to others. But they can also be considered leaders and command respect from those around them.
C20: Passive-Aggressive
C22: Passive-aggressive communication style users appear passive on the surface, but within he or she may feel powerless or stuck, building up a resentment that leads to seething or acting out in subtle, indirect or secret ways.
C24: Most passive-aggressive communicators will mutter to themselves rather than confront a person or issue. They have difficulty acknowledging their anger, use facial expressions that don’t correlate with how they feel and even deny there is a problem.
C26: Passive-aggressive communicators are most likely to communicate with body language or a lack of open communication to another person, such as giving someone the silent treatment, spreading rumours behind people’s backs or sabotaging others’ efforts. Passive-aggressive communicators may also appear cooperative, but may silently be doing the opposite. Ultimately, passive-aggressive communicators are aware of their needs, but at times struggle to voice them.
C28: Assertive
... C34: To become an assertive communicator, understanding how others communicate can be key to getting your message across to them. In order to develop a more assertive communication style, here are a few tips to keep in mind: take ownership (use "I" statements), maintain eye contact, learn to say "no", and voice your needs and desired confidently.

Sheet Communication Style Scores
E10: Assertive | I10: Passive | M10: Passive Aggressive | Q10: Openly Aggressive
E11: Question | F11: Value | G11: Formula | I11: Question | J11: Value | K11: Formula | M11: Question | N11: Value | O11: Formula | Q11: Question | R11: Value | S11: Formula
E12: 1 | F12: =G12 -> FALSE | G12: =IF(Questionnaire!D12="x",1,(IF(Questionnaire!E12="x",2,(IF(Questionnaire!F12="x",3,(IF(Questionnaire!G12="x",4,(IF(Questionnaire!H12="x",5))))))))) -> FALSE | I12: 2 | J12: =K12 -> FALSE | K12: =IF(Questionnaire!$D$13="x",1,(IF(Questionnaire!$E$13="x",2,(IF(Questionnaire!$F$13="x",3,(IF(Questionnaire!$G$13="x",4,(IF(Questionnaire!$H$13="x",5))))))))) -> FALSE | M12: 3 | N12: =O12 -> FALSE | O12: =IF(Questionnaire!$D$14="x",1,(IF(Questionnaire!$E$14="x",2,(IF(Questionnaire!$F$14="x",3,(IF(Questionnaire!$G$14="x",4,(IF(Questionnaire!$H$14="x",5))))))))) -> FALSE | Q12: 4 | R12: =S12 -> FALSE | S12: =IF(Questionnaire!$D$15="x",1,(IF(Questionnaire!$E$15="x",2,(IF(Questionnaire!$F$15="x",3,(IF(Questionnaire!$G$15="x",4,(IF(Questionnaire!$H$15="x",5))))))))) -> FALSE
E13: 5 | F13: =G13 -> FALSE | G13: =IF(Questionnaire!D16="x",1,(IF(Questionnaire!E16="x",2,(IF(Questionnaire!F16="x",3,(IF(Questionnaire!G16="x",4,(IF(Questionnaire!H16="x",5))))))))) -> FALSE | I13: 6 | J13: =K13 -> FALSE | K13: =IF(Questionnaire!D17="x",1,(IF(Questionnaire!E17="x",2,(IF(Questionnaire!F17="x",3,(IF(Questionnaire!G17="x",4,(IF(Questionnaire!H17="x",5))))))))) -> FALSE | M13: 7 | N13: =O13 -> FALSE | O13: =IF(Questionnaire!D18="x",1,(IF(Questionnaire!E18="x",2,(IF(Questionnaire!F18="x",3,(IF(Questionnaire!G18="x",4,(IF(Questionnaire!H18="x",5))))))))) -> FALSE | Q13: 8 | R13: =S13 -> FALSE | S13: =IF(Questionnaire!D19="x",1,(IF(Questionnaire!E19="x",2,(IF(Questionnaire!F19="x",3,(IF(Questionnaire!G19="x",4,(IF(Questionnaire!H19="x",5))))))))) -> FALSE
E14: 9 | F14: =G14 -> FALSE | G14: =IF(Questionnaire!D20="x",1,(IF(Questionnaire!E20="x",2,(IF(Questionnaire!F20="x",3,(IF(Questionnaire!G20="x",4,(IF(Questionnaire!H20="x",5))))))))) -> FALSE | I14: 10 | J14: =K14 -> FALSE | K14: =IF(Questionnaire!D21="x",1,(IF(Questionnaire!E21="x",2,(IF(Questionnaire!F21="x",3,(IF(Questionnaire!G21="x",4,(IF(Questionnaire!H21="x",5))))))))) -> FALSE | M14: 11 | N14: =O14 -> FALSE | O14: =IF(Questionnaire!D22="x",1,(IF(Questionnaire!E22="x",2,(IF(Questionnaire!F22="x",3,(IF(Questionnaire!G22="x",4,(IF(Questionnaire!H22="x",5))))))))) -> FALSE | Q14: 12 | R14: =S14 -> FALSE | S14: =IF(Questionnaire!D23="x",1,(IF(Questionnaire!E23="x",2,(IF(Questionnaire!F23="x",3,(IF(Questionnaire!G23="x",4,(IF(Questionnaire!H23="x",5))))))))) -> FALSE
E15: 13 | F15: =G15 -> FALSE | G15: =IF(Questionnaire!D24="x",1,(IF(Questionnaire!E24="x",2,(IF(Questionnaire!F24="x",3,(IF(Questionnaire!G24="x",4,(IF(Questionnaire!H24="x",5))))))))) -> FALSE | I15: 14 | J15: =K15 -> FALSE | K15: =IF(Questionnaire!D25="x",1,(IF(Questionnaire!E25="x",2,(IF(Questionnaire!F25="x",3,(IF(Questionnaire!G25="x",4,(IF(Questionnaire!H25="x",5))))))))) -> FALSE | M15: 15 | N15: =O15 -> FALSE | O15: =IF(Questionnaire!D26="x",1,(IF(Questionnaire!E26="x",2,(IF(Questionnaire!F26="x",3,(IF(Questionnaire!G26="x",4,(IF(Questionnaire!H26="x",5))))))))) -> FALSE | Q15: 16 | R15: =S15 -> FALSE | S15: =IF(Questionnaire!D27="x",1,(IF(Questionnaire!E27="x",2,(IF(Questionnaire!F27="x",3,(IF(Questionnaire!G27="x",4,(IF(Questionnaire!H27="x",5))))))))) -> FALSE
E16: 17 | F16: =G16 -> FALSE | G16: =IF(Questionnaire!D28="x",1,(IF(Questionnaire!E28="x",2,(IF(Questionnaire!F28="x",3,(IF(Questionnaire!G28="x",4,(IF(Questionnaire!H28="x",5))))))))) -> FALSE | I16: 18 | J16: =K16 -> FALSE | K16: =IF(Questionnaire!D29="x",1,(IF(Questionnaire!E29="x",2,(IF(Questionnaire!F29="x",3,(IF(Questionnaire!G29="x",4,(IF(Questionnaire!H29="x",5))))))))) -> FALSE | M16: 19 | N16: =O16 -> FALSE | O16: =IF(Questionnaire!D30="x",1,(IF(Questionnaire!E30="x",2,(IF(Questionnaire!F30="x",3,(IF(Questionnaire!G30="x",4,(IF(Questionnaire!H30="x",5))))))))) -> FALSE | Q16: 20 | R16: =S16 -> FALSE | S16: =IF(Questionnaire!D31="x",1,(IF(Questionnaire!E31="x",2,(IF(Questionnaire!F31="x",3,(IF(Questionnaire!G31="x",4,(IF(Questionnaire!H31="x",5))))))))) -> FALSE
E17: 21 | F17: =G17 -> FALSE | G17: =IF(Questionnaire!D32="x",1,(IF(Questionnaire!E32="x",2,(IF(Questionnaire!F32="x",3,(IF(Questionnaire!G32="x",4,(IF(Questionnaire!H32="x",5))))))))) -> FALSE | I17: 22 | J17: =K17 -> FALSE | K17: =IF(Questionnaire!D33="x",1,(IF(Questionnaire!E33="x",2,(IF(Questionnaire!F33="x",3,(IF(Questionnaire!G33="x",4,(IF(Questionnaire!H33="x",5))))))))) -> FALSE | M17: 23 | N17: =O17 -> FALSE | O17: =IF(Questionnaire!D34="x",1,(IF(Questionnaire!E34="x",2,(IF(Questionnaire!F34="x",3,(IF(Questionnaire!G34="x",4,(IF(Questionnaire!H34="x",5))))))))) -> FALSE | Q17: 24 | R17: =S17 -> FALSE | S17: =IF(Questionnaire!D35="x",1,(IF(Questionnaire!E35="x",2,(IF(Questionnaire!F35="x",3,(IF(Questionnaire!G35="x",4,(IF(Questionnaire!H35="x",5))))))))) -> FALSE
E18: 25 | F18: =G18 -> FALSE | G18: =IF(Questionnaire!D36="x",1,(IF(Questionnaire!E36="x",2,(IF(Questionnaire!F36="x",3,(IF(Questionnaire!G36="x",4,(IF(Questionnaire!H36="x",5))))))))) -> FALSE | I18: 26 | J18: =K18 -> FALSE | K18: =IF(Questionnaire!D37="x",1,(IF(Questionnaire!E37="x",2,(IF(Questionnaire!F37="x",3,(IF(Questionnaire!G37="x",4,(IF(Questionnaire!H37="x",5))))))))) -> FALSE | M18: 27 | N18: =O18 -> FALSE | O18: =IF(Questionnaire!D38="x",1,(IF(Questionnaire!E38="x",2,(IF(Questionnaire!F38="x",3,(IF(Questionnaire!G38="x",4,(IF(Questionnaire!H38="x",5))))))))) -> FALSE | Q18: 28 | R18: =S18 -> FALSE | S18: =IF(Questionnaire!D39="x",1,(IF(Questionnaire!E39="x",2,(IF(Questionnaire!F39="x",3,(IF(Questionnaire!G39="x",4,(IF(Questionnaire!H39="x",5))))))))) -> FALSE
E19: 29 | F19: =G19 -> FALSE | G19: =IF(Questionnaire!D40="x",1,(IF(Questionnaire!E40="x",2,(IF(Questionnaire!F40="x",3,(IF(Questionnaire!G40="x",4,(IF(Questionnaire!H40="x",5))))))))) -> FALSE | I19: 30 | J19: =K19 -> FALSE | K19: =IF(Questionnaire!D41="x",1,(IF(Questionnaire!E41="x",2,(IF(Questionnaire!F41="x",3,(IF(Questionnaire!G41="x",4,(IF(Questionnaire!H41="x",5))))))))) -> FALSE | M19: 31 | N19: =O19 -> FALSE | O19: =IF(Questionnaire!D42="x",1,(IF(Questionnaire!E42="x",2,(IF(Questionnaire!F42="x",3,(IF(Questionnaire!G42="x",4,(IF(Questionnaire!H42="x",5))))))))) -> FALSE | Q19: 32 | R19: =S19 -> FALSE | S19: =IF(Questionnaire!D43="x",1,(IF(Questionnaire!E43="x",2,(IF(Questionnaire!F43="x",3,(IF(Questionnaire!G43="x",4,(IF(Questionnaire!H43="x",5))))))))) -> FALSE
E20: 33 | F20: =G20 -> FALSE | G20: =IF(Questionnaire!D44="x",1,(IF(Questionnaire!E44="x",2,(IF(Questionnaire!F44="x",3,(IF(Questionnaire!G44="x",4,(IF(Questionnaire!H44="x",5))))))))) -> FALSE | I20: 34 | J20: =K20 -> FALSE | K20: =IF(Questionnaire!D45="x",1,(IF(Questionnaire!E45="x",2,(IF(Questionnaire!F45="x",3,(IF(Questionnaire!G45="x",4,(IF(Questionnaire!H45="x",5))))))))) -> FALSE | M20: 35 | N20: =O20 -> FALSE | O20: =IF(Questionnaire!D46="x",1,(IF(Questionnaire!E46="x",2,(IF(Questionnaire!F46="x",3,(IF(Questionnaire!G46="x",4,(IF(Questionnaire!H46="x",5))))))))) -> FALSE | Q20: 36 | R20: =S20 -> FALSE | S20: =IF(Questionnaire!D47="x",1,(IF(Questionnaire!E47="x",2,(IF(Questionnaire!F47="x",3,(IF(Questionnaire!G47="x",4,(IF(Questionnaire!H47="x",5))))))))) -> FALSE
E21: 37 | F21: =G21 -> FALSE | G21: =IF(Questionnaire!D48="x",1,(IF(Questionnaire!E48="x",2,(IF(Questionnaire!F48="x",3,(IF(Questionnaire!G48="x",4,(IF(Questionnaire!H48="x",5))))))))) -> FALSE | I21: 38 | J21: =K21 -> FALSE | K21: =IF(Questionnaire!D49="x",1,(IF(Questionnaire!E49="x",2,(IF(Questionnaire!F49="x",3,(IF(Questionnaire!G49="x",4,(IF(Questionnaire!H49="x",5))))))))) -> FALSE | M21: 39 | N21: =O21 -> FALSE | O21: =IF(Questionnaire!D50="x",1,(IF(Questionnaire!E50="x",2,(IF(Questionnaire!F50="x",3,(IF(Questionnaire!G50="x",4,(IF(Questionnaire!H50="x",5))))))))) -> FALSE | Q21: 40 | R21: =S21 -> FALSE | S21: =IF(Questionnaire!D51="x",1,(IF(Questionnaire!E51="x",2,(IF(Questionnaire!F51="x",3,(IF(Questionnaire!G51="x",4,(IF(Questionnaire!H51="x",5))))))))) -> FALSE
D22: TOTAL = | E22: =SUM(F12:F21) -> 0 | I22: =SUM(J12:J21) -> 0 | M22: =SUM(N12:N21) -> 0 | Q22: =SUM(R12:R21) -> 0
E25: Based on the above results, draw a line on the table below to find the profile of your communication style.
E27: Assertive | I27: Passive | M27: Passive Aggressive | Q27: Openly Aggressive
E29: 50 | I29: 50 | M29: 50 | Q29: 50
D30: Very High | E30: 48 | I30: 48 | M30: 48 | Q30: 48
E31: 46 | I31: 46 | M31: 46 | Q31: 46
E32: 44 | I32: 44 | M32: 44 | Q32: 44
E33: 42 | I33: 42 | M33: 42 | Q33: 42
D34: High | E34: 40 | I34: 40 | M34: 40 | Q34: 40
E35: 38 | I35: 38 | M35: 38 | Q35: 38
E36: 36 | I36: 36 | M36: 36 | Q36: 36
E37: 34 | I37: 34 | M37: 34 | Q37: 34
D38: Average | E38: 32 | I38: 32 | M38: 32 | Q38: 32
E39: 30 | I39: 30 | M39: 30 | Q39: 30
E40: 28 | I40: 28 | M40: 28 | Q40: 28
E41: 26 | I41: 26 | M41: 26 | Q41: 26
D42: Low | E42: 24 | I42: 24 | M42: 24 | Q42: 24
E43: 22 | I43: 22 | M43: 22 | Q43: 22
E44: 20 | I44: 20 | M44: 20 | Q44: 20
E45: 18 | I45: 18 | M45: 18 | Q45: 18
E46: 16 | I46: 16 | M46: 16 | Q46: 16
D47: Very Low | E47: 14 | I47: 14 | M47: 14 | Q47: 14
E48: 12 | I48: 12 | M48: 12 | Q48: 12
E49: 10 | I49: 10 | M49: 10 | Q49: 10
